BEGIN:VCALENDAR
VERSION:2.0
PRODID:-//Girona A Cappella - ECPv6.15.18//NONSGML v1.0//EN
CALSCALE:GREGORIAN
METHOD:PUBLISH
X-WR-CALNAME:Girona A Cappella
X-ORIGINAL-URL:https://gironacappella.cat/en/
X-WR-CALDESC:Events for Girona A Cappella
REFRESH-INTERVAL;VALUE=DURATION:PT1H
X-Robots-Tag:noindex
X-PUBLISHED-TTL:PT1H
BEGIN:VTIMEZONE
TZID:Europe/Helsinki
BEGIN:DAYLIGHT
TZOFFSETFROM:+0200
TZOFFSETTO:+0300
TZNAME:EEST
DTSTART:20230326T010000
END:DAYLIGHT
BEGIN:STANDARD
TZOFFSETFROM:+0300
TZOFFSETTO:+0200
TZNAME:EET
DTSTART:20231029T010000
END:STANDARD
BEGIN:DAYLIGHT
TZOFFSETFROM:+0200
TZOFFSETTO:+0300
TZNAME:EEST
DTSTART:20240331T010000
END:DAYLIGHT
BEGIN:STANDARD
TZOFFSETFROM:+0300
TZOFFSETTO:+0200
TZNAME:EET
DTSTART:20241027T010000
END:STANDARD
BEGIN:DAYLIGHT
TZOFFSETFROM:+0200
TZOFFSETTO:+0300
TZNAME:EEST
DTSTART:20250330T010000
END:DAYLIGHT
BEGIN:STANDARD
TZOFFSETFROM:+0300
TZOFFSETTO:+0200
TZNAME:EET
DTSTART:20251026T010000
END:STANDARD
END:VTIMEZONE
BEGIN:VEVENT
DTSTART;TZID=Europe/Helsinki:20240511T180000
DTEND;TZID=Europe/Helsinki:20240511T200000
DTSTAMP:20260422T131330
CREATED:20240318T091129Z
LAST-MODIFIED:20240321T114258Z
UID:2379-1715450400-1715457600@gironacappella.cat
SUMMARY:Demode Quartet
DESCRIPTION:Demode Quartet is directed by scriptwriter and stage manager Patxi Barco and musical director Joli Pascualena. The vocal Quartet is composed by Iker Huitzi\, singer\, percussionist and composer; Santi Romà\, voice\, piano and composer; Karlos Nguema\, singer and choreographer – Mikel Espinal as a cover of Karlos; and Joli Pascualena herself\, singer\, composer and guitarist. The team is completed by Silvia Hornos\, coordinator and production director of the company. \n  \n 
URL:https://gironacappella.cat/en/demode-quartet/
LOCATION:Pl. Independència\, Girona\, Girona\, Catalunya\, 17004\, Espanya
CATEGORIES:Demode Quartet
ATTACH;FMTTYPE=image/jpeg:https://gironacappella.cat/wp-content/uploads/2024/03/demode-quartet-1-scaled.jpg
END:VEVENT
END:VCALENDAR